Package: dittoSeq Version: 1.21.1 Command: /home/biocbuild/bbs-3.22-bioc/R/bin/R CMD INSTALL dittoSeq StartedAt: 2025-10-03 15:22:27 -0400 (Fri, 03 Oct 2025) EndedAt: 2025-10-03 15:22:54 -0400 (Fri, 03 Oct 2025) EllapsedTime: 26.6 seconds RetCode: 0 Status: OK