Package: dittoSeq Version: 1.21.1 Command: /home/biocbuild/bbs-3.22-bioc/R/bin/R CMD build --keep-empty-dirs --no-resave-data --md5 dittoSeq StartedAt: 2025-10-03 17:19:48 -0400 (Fri, 03 Oct 2025) EndedAt: 2025-10-03 17:21:07 -0400 (Fri, 03 Oct 2025) EllapsedTime: 79.1 seconds RetCode: 1 Status: ERROR PackageFile: None PackageFileSize: NA