Package: dittoSeq Version: 1.21.0 Command: /Library/Frameworks/R.framework/Resources/bin/R CMD build --keep-empty-dirs --no-resave-data dittoSeq StartedAt: 2025-07-15 16:54:11 -0400 (Tue, 15 Jul 2025) EndedAt: 2025-07-15 16:56:40 -0400 (Tue, 15 Jul 2025) EllapsedTime: 148.4 seconds RetCode: 0 Status: OK PackageFile: dittoSeq_1.21.0.tar.gz PackageFileSize: 3.298 MiB