Package: dittoSeq Version: 1.21.0 Command: /Library/Frameworks/R.framework/Resources/bin/R CMD INSTALL dittoSeq StartedAt: 2025-07-07 15:14:06 -0400 (Mon, 07 Jul 2025) EndedAt: 2025-07-07 15:14:17 -0400 (Mon, 07 Jul 2025) EllapsedTime: 11.1 seconds RetCode: 0 Status: OK