Package: dittoSeq Version: 1.21.0 Command: /Library/Frameworks/R.framework/Resources/bin/R CMD build --keep-empty-dirs --no-resave-data dittoSeq StartedAt: 2025-07-07 16:08:00 -0400 (Mon, 07 Jul 2025) EndedAt: 2025-07-07 16:08:51 -0400 (Mon, 07 Jul 2025) EllapsedTime: 51.6 seconds RetCode: 0 Status: OK PackageFile: dittoSeq_1.21.0.tar.gz PackageFileSize: 3.3 MiB