Package: distinct Version: 1.21.0 Command: F:\biocbuild\bbs-3.22-bioc\R\bin\R.exe CMD INSTALL distinct StartedAt: 2025-07-24 17:05:13 -0400 (Thu, 24 Jul 2025) EndedAt: 2025-07-24 17:08:59 -0400 (Thu, 24 Jul 2025) EllapsedTime: 226.0 seconds RetCode: 0 Status: OK