Package: distinct Version: 1.21.0 Command: chmod a+r distinct -R && F:\biocbuild\bbs-3.22-bioc\R\bin\R.exe CMD build --keep-empty-dirs --no-resave-data distinct StartedAt: 2025-07-24 18:48:09 -0400 (Thu, 24 Jul 2025) EndedAt: 2025-07-24 18:52:29 -0400 (Thu, 24 Jul 2025) EllapsedTime: 260.3 seconds RetCode: 0 Status: OK PackageFile: distinct_1.21.0.tar.gz PackageFileSize: 1.468 MiB