Package: distinct Version: 1.21.0 Command: /Library/Frameworks/R.framework/Resources/bin/R CMD INSTALL distinct StartedAt: 2025-07-20 15:57:05 -0400 (Sun, 20 Jul 2025) EndedAt: 2025-07-20 15:58:23 -0400 (Sun, 20 Jul 2025) EllapsedTime: 78.4 seconds RetCode: 0 Status: OK