Package: distinct Version: 1.21.0 Command: /Library/Frameworks/R.framework/Resources/bin/R CMD build --keep-empty-dirs --no-resave-data distinct StartedAt: 2025-07-20 16:48:00 -0400 (Sun, 20 Jul 2025) EndedAt: 2025-07-20 16:51:27 -0400 (Sun, 20 Jul 2025) EllapsedTime: 207.1 seconds RetCode: 0 Status: OK PackageFile: distinct_1.21.0.tar.gz PackageFileSize: 1.86 MiB