Package: discordant Version: 1.33.0 Command: /Library/Frameworks/R.framework/Resources/bin/R CMD build --keep-empty-dirs --no-resave-data discordant StartedAt: 2025-10-05 16:49:19 -0400 (Sun, 05 Oct 2025) EndedAt: 2025-10-05 16:50:05 -0400 (Sun, 05 Oct 2025) EllapsedTime: 45.9 seconds RetCode: 0 Status: OK PackageFile: discordant_1.33.0.tar.gz PackageFileSize: 475.5 KiB