Package: dir.expiry Version: 1.17.0 Command: /Library/Frameworks/R.framework/Resources/bin/R CMD INSTALL dir.expiry StartedAt: 2025-10-12 15:05:19 -0400 (Sun, 12 Oct 2025) EndedAt: 2025-10-12 15:05:35 -0400 (Sun, 12 Oct 2025) EllapsedTime: 15.4 seconds RetCode: 0 Status: OK