Package: dir.expiry Version: 1.17.0 Command: /Library/Frameworks/R.framework/Resources/bin/R CMD build --keep-empty-dirs --no-resave-data dir.expiry StartedAt: 2025-10-10 16:57:32 -0400 (Fri, 10 Oct 2025) EndedAt: 2025-10-10 16:57:44 -0400 (Fri, 10 Oct 2025) EllapsedTime: 11.5 seconds RetCode: 0 Status: OK PackageFile: dir.expiry_1.17.0.tar.gz PackageFileSize: 301.1 KiB