Package: dir.expiry Version: 1.17.0 Command: rm -rf dir.expiry.buildbin-libdir && mkdir dir.expiry.buildbin-libdir && /Users/biocbuild/BBS/utils/build-universal.sh dir.expiry_1.17.0.tar.gz /Library/Frameworks/R.framework/Resources/bin/R dir.expiry.buildbin-libdir StartedAt: 2025-10-13 02:30:07 -0400 (Mon, 13 Oct 2025) EndedAt: 2025-10-13 02:30:13 -0400 (Mon, 13 Oct 2025) EllapsedTime: 5.8 seconds RetCode: 0 Status: OK PackageFile: dir.expiry_1.17.0.tgz PackageFileSize: 314.9 KiB