Package: dinoR Version: 1.5.0 Command: /Library/Frameworks/R.framework/Resources/bin/R CMD INSTALL dinoR StartedAt: 2025-06-29 15:14:28 -0400 (Sun, 29 Jun 2025) EndedAt: 2025-06-29 15:14:39 -0400 (Sun, 29 Jun 2025) EllapsedTime: 11.4 seconds RetCode: 0 Status: OK