Package: dinoR Version: 1.5.0 Command: /Library/Frameworks/R.framework/Resources/bin/R CMD build --keep-empty-dirs --no-resave-data dinoR StartedAt: 2025-06-29 16:08:54 -0400 (Sun, 29 Jun 2025) EndedAt: 2025-06-29 16:09:21 -0400 (Sun, 29 Jun 2025) EllapsedTime: 27.3 seconds RetCode: 0 Status: OK PackageFile: dinoR_1.5.0.tar.gz PackageFileSize: 3.24 MiB