Package: diggit Version: 1.41.0 Command: F:\biocbuild\bbs-3.22-bioc\R\bin\R.exe CMD INSTALL diggit StartedAt: 2025-07-01 15:59:30 -0400 (Tue, 01 Jul 2025) EndedAt: 2025-07-01 16:00:04 -0400 (Tue, 01 Jul 2025) EllapsedTime: 34.4 seconds RetCode: 0 Status: OK