Package: diggit Version: 1.41.0 Command: chmod a+r diggit -R && F:\biocbuild\bbs-3.22-bioc\R\bin\R.exe CMD build --keep-empty-dirs --no-resave-data diggit StartedAt: 2025-07-01 18:34:56 -0400 (Tue, 01 Jul 2025) EndedAt: 2025-07-01 18:44:40 -0400 (Tue, 01 Jul 2025) EllapsedTime: 583.9 seconds RetCode: 0 Status: OK PackageFile: diggit_1.41.0.tar.gz PackageFileSize: 205.2 KiB