Package: diggit Version: 1.41.0 Command: rm -rf diggit.buildbin-libdir && mkdir diggit.buildbin-libdir && F:\biocbuild\bbs-3.22-bioc\R\bin\R.exe CMD INSTALL --build --library=diggit.buildbin-libdir diggit_1.41.0.tar.gz StartedAt: 2025-07-02 08:44:54 -0400 (Wed, 02 Jul 2025) EndedAt: 2025-07-02 08:45:38 -0400 (Wed, 02 Jul 2025) EllapsedTime: 44.0 seconds RetCode: 0 Status: OK PackageFile: diggit_1.41.0.zip PackageFileSize: 466.2 KiB