Package: diggit Version: 1.41.0 Command: /Library/Frameworks/R.framework/Resources/bin/R CMD INSTALL diggit StartedAt: 2025-07-01 15:07:15 -0400 (Tue, 01 Jul 2025) EndedAt: 2025-07-01 15:07:20 -0400 (Tue, 01 Jul 2025) EllapsedTime: 4.9 seconds RetCode: 0 Status: OK