Package: diggit Version: 1.41.0 Command: /Library/Frameworks/R.framework/Resources/bin/R CMD check --install=check:diggit.install-out.txt --library=/Library/Frameworks/R.framework/Resources/library --no-vignettes --timings diggit_1.41.0.tar.gz StartedAt: 2025-07-01 18:58:43 -0400 (Tue, 01 Jul 2025) EndedAt: 2025-07-01 18:59:50 -0400 (Tue, 01 Jul 2025) EllapsedTime: 66.8 seconds RetCode: 0 Status: WARNINGS CheckDir: diggit.Rcheck Warnings: 3