Package: diggit Version: 1.41.0 Command: rm -rf diggit.buildbin-libdir && mkdir diggit.buildbin-libdir && /Users/biocbuild/BBS/utils/build-universal.sh diggit_1.41.0.tar.gz /Library/Frameworks/R.framework/Resources/bin/R diggit.buildbin-libdir StartedAt: 2025-07-01 22:16:59 -0400 (Tue, 01 Jul 2025) EndedAt: 2025-07-01 22:17:05 -0400 (Tue, 01 Jul 2025) EllapsedTime: 6.1 seconds RetCode: 0 Status: OK PackageFile: diggit_1.41.0.tgz PackageFileSize: 607.4 KiB