Package: diffuStats Version: 1.29.0 Command: chmod a+r diffuStats -R && F:\biocbuild\bbs-3.22-bioc\R\bin\R.exe CMD build --keep-empty-dirs --no-resave-data diffuStats StartedAt: 2025-07-15 18:35:43 -0400 (Tue, 15 Jul 2025) EndedAt: 2025-07-15 18:37:38 -0400 (Tue, 15 Jul 2025) EllapsedTime: 115.2 seconds RetCode: 0 Status: OK PackageFile: diffuStats_1.29.0.tar.gz PackageFileSize: 929.2 KiB