Package: diffGeneAnalysis Version: 1.91.0 Command: F:\biocbuild\bbs-3.22-bioc\R\bin\R.exe CMD INSTALL diffGeneAnalysis StartedAt: 2025-07-15 15:22:01 -0400 (Tue, 15 Jul 2025) EndedAt: 2025-07-15 15:22:48 -0400 (Tue, 15 Jul 2025) EllapsedTime: 47.2 seconds RetCode: 0 Status: OK