Package: destiny Version: 3.23.0 Command: /Library/Frameworks/R.framework/Resources/bin/R CMD check --install=check:destiny.install-out.txt --library=/Library/Frameworks/R.framework/Resources/library --no-vignettes --timings destiny_3.23.0.tar.gz StartedAt: 2025-07-22 18:59:45 -0400 (Tue, 22 Jul 2025) EndedAt: 2025-07-22 19:01:23 -0400 (Tue, 22 Jul 2025) EllapsedTime: 98.1 seconds RetCode: 0 Status: OK CheckDir: destiny.Rcheck Warnings: 0