Package: derfinderPlot Version: 1.43.0 Command: /home/biocbuild/R/R/bin/R CMD INSTALL derfinderPlot StartedAt: 2025-07-14 21:22:46 -0000 (Mon, 14 Jul 2025) EndedAt: 2025-07-14 21:23:49 -0000 (Mon, 14 Jul 2025) EllapsedTime: 63.2 seconds RetCode: 0 Status: OK