Package: derfinderPlot Version: 1.43.0 Command: /home/biocbuild/R/R/bin/R CMD check --install=check:derfinderPlot.install-out.txt --library=/home/biocbuild/R/R/site-library --no-vignettes --timings derfinderPlot_1.43.0.tar.gz StartedAt: 2025-07-15 06:41:00 -0000 (Tue, 15 Jul 2025) EndedAt: 2025-07-15 06:52:29 -0000 (Tue, 15 Jul 2025) EllapsedTime: 689.5 seconds RetCode: 0 Status: OK CheckDir: derfinderPlot.Rcheck Warnings: 0