Package: derfinderPlot Version: 1.43.0 Command: F:\biocbuild\bbs-3.22-bioc\R\bin\R.exe CMD INSTALL derfinderPlot StartedAt: 2025-07-07 17:04:32 -0400 (Mon, 07 Jul 2025) EndedAt: 2025-07-07 17:05:34 -0400 (Mon, 07 Jul 2025) EllapsedTime: 62.1 seconds RetCode: 0 Status: OK