Package: derfinderPlot Version: 1.43.0 Command: F:\biocbuild\bbs-3.22-bioc\R\bin\R.exe CMD check --no-multiarch --install=check:derfinderPlot.install-out.txt --library=F:\biocbuild\bbs-3.22-bioc\R\library --no-vignettes --timings derfinderPlot_1.43.0.tar.gz StartedAt: 2025-07-08 01:16:18 -0400 (Tue, 08 Jul 2025) EndedAt: 2025-07-08 01:27:27 -0400 (Tue, 08 Jul 2025) EllapsedTime: 668.6 seconds RetCode: 0 Status: OK CheckDir: derfinderPlot.Rcheck Warnings: 0