Package: derfinderPlot Version: 1.43.0 Command: rm -rf derfinderPlot.buildbin-libdir && mkdir derfinderPlot.buildbin-libdir && F:\biocbuild\bbs-3.22-bioc\R\bin\R.exe CMD INSTALL --build --library=derfinderPlot.buildbin-libdir derfinderPlot_1.43.0.tar.gz StartedAt: 2025-07-08 08:47:53 -0400 (Tue, 08 Jul 2025) EndedAt: 2025-07-08 08:48:56 -0400 (Tue, 08 Jul 2025) EllapsedTime: 63.1 seconds RetCode: 0 Status: OK PackageFile: derfinderPlot_1.43.0.zip PackageFileSize: 953.7 KiB