Package: derfinderPlot Version: 1.43.0 Command: /Library/Frameworks/R.framework/Resources/bin/R CMD check --install=check:derfinderPlot.install-out.txt --library=/Library/Frameworks/R.framework/Resources/library --no-vignettes --timings derfinderPlot_1.43.0.tar.gz StartedAt: 2025-07-01 18:56:04 -0400 (Tue, 01 Jul 2025) EndedAt: 2025-07-01 18:59:26 -0400 (Tue, 01 Jul 2025) EllapsedTime: 202.6 seconds RetCode: 0 Status: OK CheckDir: derfinderPlot.Rcheck Warnings: 0