Package: derfinderPlot Version: 1.43.0 Command: /Library/Frameworks/R.framework/Resources/bin/R CMD build --keep-empty-dirs --no-resave-data derfinderPlot StartedAt: 2025-07-01 16:06:48 -0400 (Tue, 01 Jul 2025) EndedAt: 2025-07-01 16:07:52 -0400 (Tue, 01 Jul 2025) EllapsedTime: 63.7 seconds RetCode: 0 Status: OK PackageFile: derfinderPlot_1.43.0.tar.gz PackageFileSize: 2.438 MiB