Package: derfinderHelper Version: 1.43.0 Command: F:\biocbuild\bbs-3.22-bioc\R\bin\R.exe CMD INSTALL derfinderHelper StartedAt: 2025-07-14 15:45:33 -0400 (Mon, 14 Jul 2025) EndedAt: 2025-07-14 15:45:52 -0400 (Mon, 14 Jul 2025) EllapsedTime: 19.6 seconds RetCode: 0 Status: OK