Package: derfinderHelper Version: 1.43.0 Command: F:\biocbuild\bbs-3.22-bioc\R\bin\R.exe CMD check --no-multiarch --install=check:derfinderHelper.install-out.txt --library=F:\biocbuild\bbs-3.22-bioc\R\library --no-vignettes --timings derfinderHelper_1.43.0.tar.gz StartedAt: 2025-07-15 01:17:27 -0400 (Tue, 15 Jul 2025) EndedAt: 2025-07-15 01:19:00 -0400 (Tue, 15 Jul 2025) EllapsedTime: 93.6 seconds RetCode: 0 Status: OK CheckDir: derfinderHelper.Rcheck Warnings: 0