Package: derfinderHelper Version: 1.43.0 Command: rm -rf derfinderHelper.buildbin-libdir && mkdir derfinderHelper.buildbin-libdir && F:\biocbuild\bbs-3.22-bioc\R\bin\R.exe CMD INSTALL --build --library=derfinderHelper.buildbin-libdir derfinderHelper_1.43.0.tar.gz StartedAt: 2025-07-15 08:47:54 -0400 (Tue, 15 Jul 2025) EndedAt: 2025-07-15 08:48:17 -0400 (Tue, 15 Jul 2025) EllapsedTime: 22.2 seconds RetCode: 0 Status: OK PackageFile: derfinderHelper_1.43.0.zip PackageFileSize: 328.7 KiB