Package: derfinder Version: 1.43.0 Command: /home/biocbuild/bbs-3.22-bioc/R/bin/R CMD check --install=check:derfinder.install-out.txt --library=/home/biocbuild/bbs-3.22-bioc/R/site-library --timings derfinder_1.43.0.tar.gz StartedAt: 2025-06-20 21:37:58 -0400 (Fri, 20 Jun 2025) EndedAt: 2025-06-20 21:49:06 -0400 (Fri, 20 Jun 2025) EllapsedTime: 667.7 seconds RetCode: 0 Status: OK CheckDir: derfinder.Rcheck Warnings: 0