Package: derfinder Version: 1.43.0 Command: /Library/Frameworks/R.framework/Resources/bin/R CMD check --install=check:derfinder.install-out.txt --library=/Library/Frameworks/R.framework/Resources/library --no-vignettes --timings derfinder_1.43.0.tar.gz StartedAt: 2025-06-20 20:16:33 -0400 (Fri, 20 Jun 2025) EndedAt: 2025-06-20 20:27:51 -0400 (Fri, 20 Jun 2025) EllapsedTime: 678.5 seconds RetCode: 0 Status: OK CheckDir: derfinder.Rcheck Warnings: 0