Package: derfinder Version: 1.43.0 Command: /Library/Frameworks/R.framework/Resources/bin/R CMD build --keep-empty-dirs --no-resave-data derfinder StartedAt: 2025-06-29 16:31:58 -0400 (Sun, 29 Jun 2025) EndedAt: 2025-06-29 16:36:37 -0400 (Sun, 29 Jun 2025) EllapsedTime: 279.5 seconds RetCode: 1 Status: ERROR PackageFile: None PackageFileSize: NA