Package: derfinder Version: 1.43.0 Command: /Library/Frameworks/R.framework/Resources/bin/R CMD INSTALL derfinder StartedAt: 2025-07-13 15:28:48 -0400 (Sun, 13 Jul 2025) EndedAt: 2025-07-13 15:29:12 -0400 (Sun, 13 Jul 2025) EllapsedTime: 23.8 seconds RetCode: 0 Status: OK