Package: derfinder Version: 1.43.0 Command: rm -rf derfinder.buildbin-libdir && mkdir derfinder.buildbin-libdir && /Users/biocbuild/BBS/utils/build-universal.sh derfinder_1.43.0.tar.gz /Library/Frameworks/R.framework/Resources/bin/R derfinder.buildbin-libdir StartedAt: 2025-06-20 22:15:50 -0400 (Fri, 20 Jun 2025) EndedAt: 2025-06-20 22:16:11 -0400 (Fri, 20 Jun 2025) EllapsedTime: 20.4 seconds RetCode: 0 Status: OK PackageFile: derfinder_1.43.0.tgz PackageFileSize: 2.214 MiB