Package: densvis Version: 1.19.0 Command: /home/biocbuild/R/R/bin/R CMD build --keep-empty-dirs --no-resave-data densvis StartedAt: 2025-07-17 23:19:44 -0000 (Thu, 17 Jul 2025) EndedAt: 2025-07-17 23:21:51 -0000 (Thu, 17 Jul 2025) EllapsedTime: 127.0 seconds RetCode: 0 Status: OK PackageFile: densvis_1.19.0.tar.gz PackageFileSize: 934.3 KiB