Package: demuxmix Version: 1.11.0 Command: /home/biocbuild/R/R/bin/R CMD INSTALL demuxmix StartedAt: 2025-07-21 20:28:16 -0000 (Mon, 21 Jul 2025) EndedAt: 2025-07-21 20:28:58 -0000 (Mon, 21 Jul 2025) EllapsedTime: 42.7 seconds RetCode: 0 Status: OK