Package: demuxmix Version: 1.11.0 Command: /home/biocbuild/R/R/bin/R CMD build --keep-empty-dirs --no-resave-data demuxmix StartedAt: 2025-07-21 23:15:57 -0000 (Mon, 21 Jul 2025) EndedAt: 2025-07-21 23:16:50 -0000 (Mon, 21 Jul 2025) EllapsedTime: 53.0 seconds RetCode: 0 Status: OK PackageFile: demuxmix_1.11.0.tar.gz PackageFileSize: 855 KiB