Package: demuxmix Version: 1.11.0 Command: F:\biocbuild\bbs-3.22-bioc\R\bin\R.exe CMD check --no-multiarch --install=check:demuxmix.install-out.txt --library=F:\biocbuild\bbs-3.22-bioc\R\library --no-vignettes --timings demuxmix_1.11.0.tar.gz StartedAt: 2025-07-08 01:14:06 -0400 (Tue, 08 Jul 2025) EndedAt: 2025-07-08 01:15:32 -0400 (Tue, 08 Jul 2025) EllapsedTime: 85.2 seconds RetCode: 0 Status: OK CheckDir: demuxmix.Rcheck Warnings: 0