Package: demuxSNP Version: 1.7.0 Command: /Library/Frameworks/R.framework/Resources/bin/R CMD INSTALL demuxSNP StartedAt: 2025-06-30 15:20:44 -0400 (Mon, 30 Jun 2025) EndedAt: 2025-06-30 15:21:03 -0400 (Mon, 30 Jun 2025) EllapsedTime: 19.1 seconds RetCode: 0 Status: OK