Package: deltaCaptureC Version: 1.23.1 Command: F:\biocbuild\bbs-3.22-bioc\R\bin\R.exe CMD INSTALL deltaCaptureC StartedAt: 2025-07-20 16:03:24 -0400 (Sun, 20 Jul 2025) EndedAt: 2025-07-20 16:04:32 -0400 (Sun, 20 Jul 2025) EllapsedTime: 68.1 seconds RetCode: 0 Status: OK