Package: deltaCaptureC Version: 1.23.1 Command: F:\biocbuild\bbs-3.22-bioc\R\bin\R.exe CMD check --no-multiarch --install=check:deltaCaptureC.install-out.txt --library=F:\biocbuild\bbs-3.22-bioc\R\library --no-vignettes --timings deltaCaptureC_1.23.1.tar.gz StartedAt: 2025-07-22 01:19:37 -0400 (Tue, 22 Jul 2025) EndedAt: 2025-07-22 01:25:37 -0400 (Tue, 22 Jul 2025) EllapsedTime: 359.5 seconds RetCode: 0 Status: OK CheckDir: deltaCaptureC.Rcheck Warnings: 0