Package: deltaCaptureC Version: 1.23.1 Command: chmod a+r deltaCaptureC -R && F:\biocbuild\bbs-3.22-bioc\R\bin\R.exe CMD build --keep-empty-dirs --no-resave-data deltaCaptureC StartedAt: 2025-07-20 18:29:05 -0400 (Sun, 20 Jul 2025) EndedAt: 2025-07-20 18:32:14 -0400 (Sun, 20 Jul 2025) EllapsedTime: 189.0 seconds RetCode: 0 Status: OK PackageFile: deltaCaptureC_1.23.1.tar.gz PackageFileSize: 326.5 KiB