Package: deepSNV Version: 1.55.0 Command: /Library/Frameworks/R.framework/Resources/bin/R CMD INSTALL deepSNV StartedAt: 2025-07-14 15:43:18 -0400 (Mon, 14 Jul 2025) EndedAt: 2025-07-14 15:44:19 -0400 (Mon, 14 Jul 2025) EllapsedTime: 61.1 seconds RetCode: 0 Status: OK