Package: deepSNV Version: 1.55.0 Command: /Library/Frameworks/R.framework/Resources/bin/R CMD build --keep-empty-dirs --no-resave-data deepSNV StartedAt: 2025-07-14 16:40:36 -0400 (Mon, 14 Jul 2025) EndedAt: 2025-07-14 16:42:21 -0400 (Mon, 14 Jul 2025) EllapsedTime: 105.0 seconds RetCode: 0 Status: OK PackageFile: deepSNV_1.55.0.tar.gz PackageFileSize: 2.528 MiB