Package: decoupleR Version: 2.15.0 Command: F:\biocbuild\bbs-3.22-bioc\R\bin\R.exe CMD check --no-multiarch --install=check:decoupleR.install-out.txt --library=F:\biocbuild\bbs-3.22-bioc\R\library --no-vignettes --timings decoupleR_2.15.0.tar.gz StartedAt: 2025-07-18 01:03:05 -0400 (Fri, 18 Jul 2025) EndedAt: 2025-07-18 01:14:05 -0400 (Fri, 18 Jul 2025) EllapsedTime: 659.9 seconds RetCode: 0 Status: WARNINGS CheckDir: decoupleR.Rcheck Warnings: 1